BEGIN:VCALENDAR
VERSION:2.0
CALSCALE:GREGORIAN
PRODID:adamgibbons/ics
METHOD:PUBLISH
X-PUBLISHED-TTL:PT1H
BEGIN:VEVENT
UID:30@www.athensdiy.net
SUMMARY:RAUNCHER [ALBUM RELEASE] + JOHNNY FALLOON + HARDBYTE + KAMIKAZI LOV
	ER
DTSTAMP:20260421T030722Z
DTSTART:20260510T000000Z
URL:https://www.athensdiy.net/event/rauncher-album-release-johnny-falloon-h
	ardbyte-kamikazi-lover
LOCATION:Roadhouse - 137 N Lumpkin St
STATUS:CONFIRMED
CATEGORIES:DIY,Hardbyte,Johnny Falloon,Kamikazi Lover,Rauncher,Roadhouse,da
	nce,electronic,noise,synth punk
END:VEVENT
END:VCALENDAR
