BEGIN:VCALENDAR
VERSION:2.0
CALSCALE:GREGORIAN
PRODID:adamgibbons/ics
METHOD:PUBLISH
X-PUBLISHED-TTL:PT1H
BEGIN:VEVENT
UID:35@www.athensdiy.net
SUMMARY:NIHILIST CHEERLEADER + GRRRIZZLY + BADKILL
DTSTAMP:20260425T225344Z
DTSTART:20260510T230000Z
DTEND:20260511T030000Z
URL:https://www.athensdiy.net/event/nihilist-cheerleader-grrrizzly-badkill
LOCATION:RIP BUVEZ - 585 Barber St Suite A. Athens\, GA 30601
STATUS:CONFIRMED
CATEGORIES:Bad Kill,Nihilist Cheerleader,punk,rip buvez
END:VEVENT
END:VCALENDAR
