BEGIN:VCALENDAR
VERSION:2.0
CALSCALE:GREGORIAN
PRODID:adamgibbons/ics
METHOD:PUBLISH
X-PUBLISHED-TTL:PT1H
BEGIN:VEVENT
UID:33@www.athensdiy.net
SUMMARY:BROKEN DOWN BOXES + DAINTY BILL TAFT + JIM WILLY HAM
DTSTAMP:20260424T001652Z
DTSTART:20260426T000000Z
URL:https://www.athensdiy.net/event/broken-down-boxes-dainty-bill-taft-jim-
	willy-ham
LOCATION:Athica - 675 Pulaski St STE 1200\, Athens\, GA 30601
STATUS:CONFIRMED
CATEGORIES:W8ING4UFOS,folk punk,psych rock
END:VEVENT
END:VCALENDAR
