BEGIN:VCALENDAR
VERSION:2.0
CALSCALE:GREGORIAN
PRODID:adamgibbons/ics
METHOD:PUBLISH
X-PUBLISHED-TTL:PT1H
BEGIN:VEVENT
UID:28@www.athensdiy.net
SUMMARY:MY WIFE'S AN ANGEL + BONE BAG + SOOT + RALPH
DTSTAMP:20260421T005620Z
DTSTART:20260424T000000Z
DESCRIPTION:MY WIFE'S AN ANGEL from Philly come witness
URL:https://www.athensdiy.net/event/my-wifes-an-angel-bone-bag-soot-ralph
LOCATION:Normal Bar - 1365 Prince Ave
STATUS:CONFIRMED
CATEGORIES:punk,Bone Bag,noise,sludge,My Wife's an Angel,Ralph,Soot,Normal 
	Bar,Lead Mouth
X-ALT-DESC;FMTTYPE=text/html:<p>MY WIFE'S AN ANGEL from Philly come witness
	</p>
BEGIN:VALARM
ACTION:DISPLAY
DESCRIPTION:MY WIFE'S AN ANGEL + BONE BAG + SOOT + RALPH
TRIGGER:-PT1H
END:VALARM
END:VEVENT
END:VCALENDAR
