BEGIN:VCALENDAR
VERSION:2.0
CALSCALE:GREGORIAN
PRODID:adamgibbons/ics
METHOD:PUBLISH
X-PUBLISHED-TTL:PT1H
BEGIN:VEVENT
UID:34@www.athensdiy.net
SUMMARY:(HOOKER VISION + HACK COURT) SHOWCASE
DTSTAMP:20260423T221826Z
DTSTART:20260425T230000Z
DESCRIPTION:MANDRAKE CLUB (GRANT EVANS + MATT KOVACEVICH)\n\nCONFOUNDER (JO
	SH EVANS)\n\nI\, CONDUIT (JEFF ASTIN + BRIAN KINKADE)\n\nORCUS (RACHEL EVA
	NS\, LESLIE GROVE\, STACEY HARVEY\, MANDY MASTROVITA\, RASHAUN\nELLIS)
URL:https://www.athensdiy.net/event/hooker-vision-hack-court-showcase
LOCATION:work.shop - 147 Fritz Mar Ln\, Athens\, GA 30607
STATUS:CONFIRMED
CATEGORIES:
X-ALT-DESC;FMTTYPE=text/html:<p>MANDRAKE CLUB (GRANT EVANS + MATT KOVACEVIC
	H)</p><p>CONFOUNDER (JOSH EVANS)</p><p>I, CONDUIT (JEFF ASTIN + BRIAN KINK
	ADE)</p><p>ORCUS (RACHEL EVANS, LESLIE GROVE, STACEY HARVEY, MANDY MASTROV
	ITA, RASHAUN ELLIS)</p>
BEGIN:VALARM
ACTION:DISPLAY
DESCRIPTION:(HOOKER VISION + HACK COURT) SHOWCASE
TRIGGER:-PT1H
END:VALARM
END:VEVENT
END:VCALENDAR
