BEGIN:VCALENDAR
VERSION:2.0
CALSCALE:GREGORIAN
PRODID:adamgibbons/ics
METHOD:PUBLISH
X-PUBLISHED-TTL:PT1H
BEGIN:VEVENT
UID:36@www.athensdiy.net
SUMMARY:DERBY + THE FALLING SPIKES + FATAL ERROR
DTSTAMP:20260425T211352Z
DTSTART:20260508T020000Z
DESCRIPTION:Derby + The Falling Spikes + Fatal Error at the Roadhouse\n\n5/
	7/2026\n10pm\n$5\nFormal attire encouraged
URL:https://www.athensdiy.net/event/derby-the-falling-spikes-fatal-error
LOCATION:Roadhouse - 137 N Lumpkin St
STATUS:CONFIRMED
CATEGORIES:Derby,rock and roll,The Falling Spikes,fatal error,Roadhouse
X-ALT-DESC;FMTTYPE=text/html:<p>Derby + The Falling Spikes + Fatal Error at
	 the Roadhouse </p><p>5/7/2026<br>10pm<br>$5<br>Formal attire encouraged</
	p>
BEGIN:VALARM
ACTION:DISPLAY
DESCRIPTION:DERBY + THE FALLING SPIKES + FATAL ERROR
TRIGGER:-PT1H
END:VALARM
END:VEVENT
END:VCALENDAR
