BEGIN:VCALENDAR
VERSION:2.0
CALSCALE:GREGORIAN
PRODID:adamgibbons/ics
METHOD:PUBLISH
X-PUBLISHED-TTL:PT1H
BEGIN:VEVENT
UID:31@www.athensdiy.net
SUMMARY:BEER + VIOLENT VIOLET + BADKILL
DTSTAMP:20260421T010018Z
DTSTART:20260517T010000Z
DESCRIPTION:BEER
URL:https://www.athensdiy.net/event/beer-violent-violet-badkill
LOCATION:Flicker Theatre - 263 W Washington St\, Athens\, GA 30601
STATUS:CONFIRMED
CATEGORIES:synth punk,flicker,Bad Kill,Beer,Violent Violet
X-ALT-DESC;FMTTYPE=text/html:<p>BEER</p>
BEGIN:VALARM
ACTION:DISPLAY
DESCRIPTION:BEER + VIOLENT VIOLET + BADKILL
TRIGGER:-PT1H
END:VALARM
END:VEVENT
END:VCALENDAR
